BEGIN:VCALENDAR
VERSION:2.0
PRODID:-//Northeast Harvest - ECPv6.15.20//NONSGML v1.0//EN
CALSCALE:GREGORIAN
METHOD:PUBLISH
X-WR-CALNAME:Northeast Harvest
X-ORIGINAL-URL:https://northeastharvest.com
X-WR-CALDESC:Events for Northeast Harvest
REFRESH-INTERVAL;VALUE=DURATION:PT1H
X-Robots-Tag:noindex
X-PUBLISHED-TTL:PT1H
BEGIN:VTIMEZONE
TZID:America/New_York
BEGIN:DAYLIGHT
TZOFFSETFROM:-0500
TZOFFSETTO:-0400
TZNAME:EDT
DTSTART:20230312T070000
END:DAYLIGHT
BEGIN:STANDARD
TZOFFSETFROM:-0400
TZOFFSETTO:-0500
TZNAME:EST
DTSTART:20231105T060000
END:STANDARD
BEGIN:DAYLIGHT
TZOFFSETFROM:-0500
TZOFFSETTO:-0400
TZNAME:EDT
DTSTART:20240310T070000
END:DAYLIGHT
BEGIN:STANDARD
TZOFFSETFROM:-0400
TZOFFSETTO:-0500
TZNAME:EST
DTSTART:20241103T060000
END:STANDARD
BEGIN:DAYLIGHT
TZOFFSETFROM:-0500
TZOFFSETTO:-0400
TZNAME:EDT
DTSTART:20250309T070000
END:DAYLIGHT
BEGIN:STANDARD
TZOFFSETFROM:-0400
TZOFFSETTO:-0500
TZNAME:EST
DTSTART:20251102T060000
END:STANDARD
END:VTIMEZONE
BEGIN:VEVENT
DTSTART;TZID=America/New_York:20241124T100000
DTEND;TZID=America/New_York:20241124T130000
DTSTAMP:20260422T121623
CREATED:20200520T154705Z
LAST-MODIFIED:20230427T192359Z
UID:10009374-1732442400-1732453200@northeastharvest.com
SUMMARY:Lowell Farm Market Mill No. 5
DESCRIPTION:Mill No. 5 and Mill City Grows hosts The Farm Market at Mill No. 5! This is a year-round indoor market featuring fresh produce\, preserves\, baked goods\, home and body care products\, and much more that are all locally made! \nSundays\, 10 am to 1 pm – Year Round
URL:https://northeastharvest.com/event/lowell-farm-market-mill-no-5/2024-11-24/
LOCATION:Lowell Indoor Mobile Farmers’ Market\, 220 Pawtucket Street\, Lowell\, MA\, 01850\, United States
CATEGORIES:Farmers' Markets,Farms & Food
GEO:42.6412734;-71.3127928
X-APPLE-STRUCTURED-LOCATION;VALUE=URI;X-ADDRESS=Lowell Indoor Mobile Farmers’ Market 220 Pawtucket Street Lowell MA 01850 United States;X-APPLE-RADIUS=500;X-TITLE=220 Pawtucket Street:geo:-71.3127928,42.6412734
END:VEVENT
BEGIN:VEVENT
DTSTART;TZID=America/New_York:20241124T110000
DTEND;TZID=America/New_York:20241124T150000
DTSTAMP:20260422T121623
CREATED:20201106T190558Z
LAST-MODIFIED:20250216T214922Z
UID:10010839-1732446000-1732460400@northeastharvest.com
SUMMARY:Hopkinton Winter Farmers' Market
DESCRIPTION:Join the Hopkinton Winter Farmers’ Market for seasonal vendors and more!
URL:https://northeastharvest.com/event/hopkinton-farmers-market-winter-markets/2024-11-24/
LOCATION:Hopkinton Farmers’ Market\, 6 Hayden Rowe Street\, Hopkinton\, MA\, 01748\, United States
CATEGORIES:Farmers' Markets,Farms & Food
GEO:42.2297289;-71.5177466
X-APPLE-STRUCTURED-LOCATION;VALUE=URI;X-ADDRESS=Hopkinton Farmers’ Market 6 Hayden Rowe Street Hopkinton MA 01748 United States;X-APPLE-RADIUS=500;X-TITLE=6 Hayden Rowe Street:geo:-71.5177466,42.2297289
END:VEVENT
END:VCALENDAR