BEGIN:VCALENDAR
VERSION:2.0
PRODID:-//Northeast Harvest - ECPv6.15.20//NONSGML v1.0//EN
CALSCALE:GREGORIAN
METHOD:PUBLISH
X-WR-CALNAME:Northeast Harvest
X-ORIGINAL-URL:https://northeastharvest.com
X-WR-CALDESC:Events for Northeast Harvest
REFRESH-INTERVAL;VALUE=DURATION:PT1H
X-Robots-Tag:noindex
X-PUBLISHED-TTL:PT1H
BEGIN:VTIMEZONE
TZID:America/New_York
BEGIN:DAYLIGHT
TZOFFSETFROM:-0500
TZOFFSETTO:-0400
TZNAME:EDT
DTSTART:20240310T070000
END:DAYLIGHT
BEGIN:STANDARD
TZOFFSETFROM:-0400
TZOFFSETTO:-0500
TZNAME:EST
DTSTART:20241103T060000
END:STANDARD
BEGIN:DAYLIGHT
TZOFFSETFROM:-0500
TZOFFSETTO:-0400
TZNAME:EDT
DTSTART:20250309T070000
END:DAYLIGHT
BEGIN:STANDARD
TZOFFSETFROM:-0400
TZOFFSETTO:-0500
TZNAME:EST
DTSTART:20251102T060000
END:STANDARD
BEGIN:DAYLIGHT
TZOFFSETFROM:-0500
TZOFFSETTO:-0400
TZNAME:EDT
DTSTART:20260308T070000
END:DAYLIGHT
BEGIN:STANDARD
TZOFFSETFROM:-0400
TZOFFSETTO:-0500
TZNAME:EST
DTSTART:20261101T060000
END:STANDARD
END:VTIMEZONE
BEGIN:VEVENT
DTSTART;TZID=America/New_York:20250510T090000
DTEND;TZID=America/New_York:20250510T120000
DTSTAMP:20260418T154556
CREATED:20200520T160422Z
LAST-MODIFIED:20250423T183216Z
UID:10011603-1746867600-1746878400@northeastharvest.com
SUMMARY:Natick Farmers' Market
DESCRIPTION:The Natick Farmers’ Market was founded in 1996 by the Natick Center Associates. The mission of the market is to bring locally grown or made foods to the community as well as provide an opportunity for community gatherings. \nSaturdays\, 9 am to 1 pm – Year Round \nSpring and Summer: Intersection of Routes 27 & 135 \nFall and Winter:  Common Street Spiritual Center\, 13 Common Street
URL:https://northeastharvest.com/event/natick-farmers-market/2025-05-10/
LOCATION:Natick Farmers’ Market\, Town Common\, Natick\, MA\, 01760\, United States
CATEGORIES:Farmers' Markets,Farms & Food
GEO:42.283341;-71.346778
X-APPLE-STRUCTURED-LOCATION;VALUE=URI;X-ADDRESS=Natick Farmers’ Market Town Common Natick MA 01760 United States;X-APPLE-RADIUS=500;X-TITLE=Town Common:geo:-71.346778,42.283341
END:VEVENT
BEGIN:VEVENT
DTSTART;TZID=America/New_York:20250510T090000
DTEND;TZID=America/New_York:20250510T130000
DTSTAMP:20260418T154556
CREATED:20250423T190240Z
LAST-MODIFIED:20250423T190301Z
UID:10010785-1746867600-1746882000@northeastharvest.com
SUMMARY:Somerville Union Square Farmers' Market
DESCRIPTION:The mission of the Somerville Union Square Farmers’ Market is to showcase local sustainable agriculture and promote organic practices; provide opportunities for education\, and for direct\, informed relationships between food producers and consumers; and benefit local farmers and the local economy\, as well as public health\, community vitality\, and regional environmental sustainability. \nSaturdays\, 9 am to 1 pm – May to October
URL:https://northeastharvest.com/event/somerville-union-square-farmers-market-2-2-2/2025-05-10/
LOCATION:Somerville Union Square Farmers’ Market\, 366 Somerville Avenue\, Somerville\, MA\, 02143\, United States
CATEGORIES:Farmers' Markets,Farms & Food
GEO:42.3799343;-71.0950372
X-APPLE-STRUCTURED-LOCATION;VALUE=URI;X-ADDRESS=Somerville Union Square Farmers’ Market 366 Somerville Avenue Somerville MA 02143 United States;X-APPLE-RADIUS=500;X-TITLE=366 Somerville Avenue:geo:-71.0950372,42.3799343
END:VEVENT
BEGIN:VEVENT
DTSTART;TZID=America/New_York:20250510T100000
DTEND;TZID=America/New_York:20250510T160000
DTSTAMP:20260418T154556
CREATED:20250216T215133Z
LAST-MODIFIED:20250216T215133Z
UID:10010870-1746871200-1746892800@northeastharvest.com
SUMMARY:Lawrence Groundwork Winter Farmers' Market
DESCRIPTION:Join the Lawrence Groundwork Winter Farmers’ Market!
URL:https://northeastharvest.com/event/lawrence-groundwork-winter-farmers-market-2/2025-05-10/
LOCATION:Lawrence Groundworks Winter Farmers’ Market\, 155 Haverhill Street\, Lawrence\, MA\, United States
CATEGORIES:Farmers' Markets,Farms & Food
GEO:42.71118;-71.1590552
X-APPLE-STRUCTURED-LOCATION;VALUE=URI;X-ADDRESS=Lawrence Groundworks Winter Farmers’ Market 155 Haverhill Street Lawrence MA United States;X-APPLE-RADIUS=500;X-TITLE=155 Haverhill Street:geo:-71.1590552,42.71118
END:VEVENT
END:VCALENDAR