BEGIN:VCALENDAR
VERSION:2.0
PRODID:-//Northeast Harvest - ECPv6.15.20//NONSGML v1.0//EN
CALSCALE:GREGORIAN
METHOD:PUBLISH
X-ORIGINAL-URL:https://northeastharvest.com
X-WR-CALDESC:Events for Northeast Harvest
REFRESH-INTERVAL;VALUE=DURATION:PT1H
X-Robots-Tag:noindex
X-PUBLISHED-TTL:PT1H
BEGIN:VTIMEZONE
TZID:America/New_York
BEGIN:DAYLIGHT
TZOFFSETFROM:-0500
TZOFFSETTO:-0400
TZNAME:EDT
DTSTART:20240310T070000
END:DAYLIGHT
BEGIN:STANDARD
TZOFFSETFROM:-0400
TZOFFSETTO:-0500
TZNAME:EST
DTSTART:20241103T060000
END:STANDARD
BEGIN:DAYLIGHT
TZOFFSETFROM:-0500
TZOFFSETTO:-0400
TZNAME:EDT
DTSTART:20250309T070000
END:DAYLIGHT
BEGIN:STANDARD
TZOFFSETFROM:-0400
TZOFFSETTO:-0500
TZNAME:EST
DTSTART:20251102T060000
END:STANDARD
BEGIN:DAYLIGHT
TZOFFSETFROM:-0500
TZOFFSETTO:-0400
TZNAME:EDT
DTSTART:20260308T070000
END:DAYLIGHT
BEGIN:STANDARD
TZOFFSETFROM:-0400
TZOFFSETTO:-0500
TZNAME:EST
DTSTART:20261101T060000
END:STANDARD
END:VTIMEZONE
BEGIN:VEVENT
DTSTART;TZID=America/New_York:20250527T140000
DTEND;TZID=America/New_York:20250527T183000
DTSTAMP:20260423T043831
CREATED:20250423T181951Z
LAST-MODIFIED:20250423T182012Z
UID:10010419-1748354400-1748370600@northeastharvest.com
SUMMARY:Lexington Farmers' Market
DESCRIPTION:The mission of the Lexington Farmers’ Market is to showcase local sustainable agriculture and promote organic practices; provide opportunities for education\, and for direct\, informed relationships between food producers and consumers; and benefit local farmers and the local economy\, as well as public health\, community vitality\, and regional environmental sustainability. \nTuesdays\, 2:00 pm to 6:30 pm – May to October
URL:https://northeastharvest.com/event/lexington-farmers-market-2-2-2/2025-05-27/
LOCATION:Lexington Farmers’ Market\, 60 Worthen Road\, Lexington\, MA\, 01731\, United States
CATEGORIES:Farmers' Markets,Farms & Food
GEO:42.4474403;-71.2268113
X-APPLE-STRUCTURED-LOCATION;VALUE=URI;X-ADDRESS=Lexington Farmers’ Market 60 Worthen Road Lexington MA 01731 United States;X-APPLE-RADIUS=500;X-TITLE=60 Worthen Road:geo:-71.2268113,42.4474403
END:VEVENT
END:VCALENDAR