BEGIN:VCALENDAR
VERSION:2.0
PRODID:-//Northeast Harvest - ECPv6.15.20//NONSGML v1.0//EN
CALSCALE:GREGORIAN
METHOD:PUBLISH
X-WR-CALNAME:Northeast Harvest
X-ORIGINAL-URL:https://northeastharvest.com
X-WR-CALDESC:Events for Northeast Harvest
REFRESH-INTERVAL;VALUE=DURATION:PT1H
X-Robots-Tag:noindex
X-PUBLISHED-TTL:PT1H
BEGIN:VTIMEZONE
TZID:America/New_York
BEGIN:DAYLIGHT
TZOFFSETFROM:-0500
TZOFFSETTO:-0400
TZNAME:EDT
DTSTART:20240310T070000
END:DAYLIGHT
BEGIN:STANDARD
TZOFFSETFROM:-0400
TZOFFSETTO:-0500
TZNAME:EST
DTSTART:20241103T060000
END:STANDARD
BEGIN:DAYLIGHT
TZOFFSETFROM:-0500
TZOFFSETTO:-0400
TZNAME:EDT
DTSTART:20250309T070000
END:DAYLIGHT
BEGIN:STANDARD
TZOFFSETFROM:-0400
TZOFFSETTO:-0500
TZNAME:EST
DTSTART:20251102T060000
END:STANDARD
BEGIN:DAYLIGHT
TZOFFSETFROM:-0500
TZOFFSETTO:-0400
TZNAME:EDT
DTSTART:20260308T070000
END:DAYLIGHT
BEGIN:STANDARD
TZOFFSETFROM:-0400
TZOFFSETTO:-0500
TZNAME:EST
DTSTART:20261101T060000
END:STANDARD
END:VTIMEZONE
BEGIN:VEVENT
DTSTART;TZID=America/New_York:20250531T090000
DTEND;TZID=America/New_York:20250531T120000
DTSTAMP:20260420T074409
CREATED:20200520T160422Z
LAST-MODIFIED:20250423T183216Z
UID:10011606-1748682000-1748692800@northeastharvest.com
SUMMARY:Natick Farmers' Market
DESCRIPTION:The Natick Farmers’ Market was founded in 1996 by the Natick Center Associates. The mission of the market is to bring locally grown or made foods to the community as well as provide an opportunity for community gatherings. \nSaturdays\, 9 am to 1 pm – Year Round \nSpring and Summer: Intersection of Routes 27 & 135 \nFall and Winter:  Common Street Spiritual Center\, 13 Common Street
URL:https://northeastharvest.com/event/natick-farmers-market/2025-05-31/
LOCATION:Natick Farmers’ Market\, Town Common\, Natick\, MA\, 01760\, United States
CATEGORIES:Farmers' Markets,Farms & Food
GEO:42.283341;-71.346778
X-APPLE-STRUCTURED-LOCATION;VALUE=URI;X-ADDRESS=Natick Farmers’ Market Town Common Natick MA 01760 United States;X-APPLE-RADIUS=500;X-TITLE=Town Common:geo:-71.346778,42.283341
END:VEVENT
BEGIN:VEVENT
DTSTART;TZID=America/New_York:20250531T090000
DTEND;TZID=America/New_York:20250531T120000
DTSTAMP:20260420T074409
CREATED:20250423T182223Z
LAST-MODIFIED:20250423T182242Z
UID:10010577-1748682000-1748692800@northeastharvest.com
SUMMARY:Marblehead Farmers' Market
DESCRIPTION:The mission of the Marblehead Farmers’ Market is to showcase local sustainable agriculture and promote organic practices; provide opportunities for education\, and for direct\, informed relationships between food producers and consumers; and benefit local farmers and the local economy\, as well as public health\, community vitality\, and regional environmental sustainability. \nSaturdays\, 9 am to 12 pm – June to November
URL:https://northeastharvest.com/event/marblehead-farmers-market-2-2-2/2025-05-31/
LOCATION:Marblehead Farmers’ Market\, 217 Pleasant Street\, Marblehead\, MA\, 01945\, United States
CATEGORIES:Farmers' Markets
GEO:42.4981591;-70.8618191
X-APPLE-STRUCTURED-LOCATION;VALUE=URI;X-ADDRESS=Marblehead Farmers’ Market 217 Pleasant Street Marblehead MA 01945 United States;X-APPLE-RADIUS=500;X-TITLE=217 Pleasant Street:geo:-70.8618191,42.4981591
END:VEVENT
BEGIN:VEVENT
DTSTART;TZID=America/New_York:20250531T090000
DTEND;TZID=America/New_York:20250531T130000
DTSTAMP:20260420T074409
CREATED:20250423T190240Z
LAST-MODIFIED:20250423T190301Z
UID:10011968-1748682000-1748696400@northeastharvest.com
SUMMARY:Somerville Union Square Farmers' Market
DESCRIPTION:The mission of the Somerville Union Square Farmers’ Market is to showcase local sustainable agriculture and promote organic practices; provide opportunities for education\, and for direct\, informed relationships between food producers and consumers; and benefit local farmers and the local economy\, as well as public health\, community vitality\, and regional environmental sustainability. \nSaturdays\, 9 am to 1 pm – May to October
URL:https://northeastharvest.com/event/somerville-union-square-farmers-market-2-2-2/2025-05-31/
LOCATION:Somerville Union Square Farmers’ Market\, 366 Somerville Avenue\, Somerville\, MA\, 02143\, United States
CATEGORIES:Farmers' Markets,Farms & Food
GEO:42.3799343;-71.0950372
X-APPLE-STRUCTURED-LOCATION;VALUE=URI;X-ADDRESS=Somerville Union Square Farmers’ Market 366 Somerville Avenue Somerville MA 02143 United States;X-APPLE-RADIUS=500;X-TITLE=366 Somerville Avenue:geo:-71.0950372,42.3799343
END:VEVENT
BEGIN:VEVENT
DTSTART;TZID=America/New_York:20250531T100000
DTEND;TZID=America/New_York:20250531T140000
DTSTAMP:20260420T074409
CREATED:20250601T171252Z
LAST-MODIFIED:20250601T171252Z
UID:10012188-1748685600-1748700000@northeastharvest.com
SUMMARY:Cambridge Charles River Farmers' Market at Morse School
DESCRIPTION:Join the Cambridge Charles River Farmers’ Market at Morse School on Saturdays from 10:00am – 2:00pm in the Morse School Parking Lot. Visit their website for more information on vendors\, products\, etc.
URL:https://northeastharvest.com/event/cambridge-charles-river-farmers-market-at-morse-school/2025-05-31/
LOCATION:Cambridge Charles River Farmers’ Market at Morse School\, 40 Granite Street\, Cambridge\, MA\, 02139\, United States
CATEGORIES:Farmers' Markets,Farms & Food
GEO:42.3554503;-71.111499
X-APPLE-STRUCTURED-LOCATION;VALUE=URI;X-ADDRESS=Cambridge Charles River Farmers’ Market at Morse School 40 Granite Street Cambridge MA 02139 United States;X-APPLE-RADIUS=500;X-TITLE=40 Granite Street:geo:-71.111499,42.3554503
END:VEVENT
END:VCALENDAR