BEGIN:VCALENDAR
VERSION:2.0
PRODID:-//Northeast Harvest - ECPv6.15.20//NONSGML v1.0//EN
CALSCALE:GREGORIAN
METHOD:PUBLISH
X-ORIGINAL-URL:https://northeastharvest.com
X-WR-CALDESC:Events for Northeast Harvest
REFRESH-INTERVAL;VALUE=DURATION:PT1H
X-Robots-Tag:noindex
X-PUBLISHED-TTL:PT1H
BEGIN:VTIMEZONE
TZID:America/New_York
BEGIN:DAYLIGHT
TZOFFSETFROM:-0500
TZOFFSETTO:-0400
TZNAME:EDT
DTSTART:20240310T070000
END:DAYLIGHT
BEGIN:STANDARD
TZOFFSETFROM:-0400
TZOFFSETTO:-0500
TZNAME:EST
DTSTART:20241103T060000
END:STANDARD
BEGIN:DAYLIGHT
TZOFFSETFROM:-0500
TZOFFSETTO:-0400
TZNAME:EDT
DTSTART:20250309T070000
END:DAYLIGHT
BEGIN:STANDARD
TZOFFSETFROM:-0400
TZOFFSETTO:-0500
TZNAME:EST
DTSTART:20251102T060000
END:STANDARD
BEGIN:DAYLIGHT
TZOFFSETFROM:-0500
TZOFFSETTO:-0400
TZNAME:EDT
DTSTART:20260308T070000
END:DAYLIGHT
BEGIN:STANDARD
TZOFFSETFROM:-0400
TZOFFSETTO:-0500
TZNAME:EST
DTSTART:20261101T060000
END:STANDARD
END:VTIMEZONE
BEGIN:VEVENT
DTSTART;TZID=America/New_York:20250608T090000
DTEND;TZID=America/New_York:20250608T130000
DTSTAMP:20260419T153734
CREATED:20250423T183519Z
LAST-MODIFIED:20250423T183535Z
UID:10011866-1749373200-1749387600@northeastharvest.com
SUMMARY:Newburyport Farmers' Market
DESCRIPTION:The mission of the Newburyport Farmers’ Market is to showcase local sustainable agriculture and promote organic practices; provide opportunities for education\, and for direct\, informed relationships between food producers and consumers; and benefit local farmers and the local economy\, as well as public health\, community vitality\, and regional environmental sustainability. \nSundays\, 9 am to 1 pm – May to November
URL:https://northeastharvest.com/event/newburyport-farmers-market-2-2-2/2025-06-08/
LOCATION:Newburyport Farmers’ Market\, Tannery Marketplace\, Newburyport\, MA\, 01950\, United States
CATEGORIES:Farmers' Markets,Farms & Food
GEO:42.8103771;-70.8659758
X-APPLE-STRUCTURED-LOCATION;VALUE=URI;X-ADDRESS=Newburyport Farmers’ Market Tannery Marketplace Newburyport MA 01950 United States;X-APPLE-RADIUS=500;X-TITLE=Tannery Marketplace:geo:-70.8659758,42.8103771
END:VEVENT
BEGIN:VEVENT
DTSTART;TZID=America/New_York:20250608T100000
DTEND;TZID=America/New_York:20250608T130000
DTSTAMP:20260419T153734
CREATED:20250423T190720Z
LAST-MODIFIED:20250423T190952Z
UID:10010821-1749376800-1749387600@northeastharvest.com
SUMMARY:Swampscott Farmers' Market
DESCRIPTION:The mission of the Swampscott Farmers’ Market is to showcase local sustainable agriculture and promote organic practices; provide opportunities for education\, and for direct\, informed relationships between food producers and consumers; and benefit local farmers and the local economy\, as well as public health\, community vitality\, and regional environmental sustainability. \nSundays\, 10 am to 1 pm – June to October
URL:https://northeastharvest.com/event/swampscott-farmers-market-2-2-2/2025-06-08/
LOCATION:Swampscott Farmers’ Market\, 22 Monument Avenue\, Swampscott\, MA\, 01907\, United States
CATEGORIES:Farmers' Markets,Farms & Food
GEO:42.4696372;-70.9183894
X-APPLE-STRUCTURED-LOCATION;VALUE=URI;X-ADDRESS=Swampscott Farmers’ Market 22 Monument Avenue Swampscott MA 01907 United States;X-APPLE-RADIUS=500;X-TITLE=22 Monument Avenue:geo:-70.9183894,42.4696372
END:VEVENT
BEGIN:VEVENT
DTSTART;TZID=America/New_York:20250608T100000
DTEND;TZID=America/New_York:20250608T130000
DTSTAMP:20260419T153734
CREATED:20250423T192207Z
LAST-MODIFIED:20250423T192230Z
UID:10010377-1749376800-1749387600@northeastharvest.com
SUMMARY:Wilmington Farmers' Market
DESCRIPTION:The mission of the Wilmington Farmers’ Market is to showcase local sustainable agriculture and promote organic practices; provide opportunities for education\, and for direct\, informed relationships between food producers and consumers; and benefit local farmers and the local economy\, as well as public health\, community vitality\, and regional environmental sustainability. \nSundays\, 10 am to 1 pm – June to October
URL:https://northeastharvest.com/event/wilmington-farmers-market-2-2-2/2025-06-08/
LOCATION:Wilmington Farmers’ Market\, 140 Middlesex Avenue\, Wilmington\, MA\, 01887\, United States
CATEGORIES:Farmers' Markets,Farms & Food
GEO:42.5566305;-71.1662959
X-APPLE-STRUCTURED-LOCATION;VALUE=URI;X-ADDRESS=Wilmington Farmers’ Market 140 Middlesex Avenue Wilmington MA 01887 United States;X-APPLE-RADIUS=500;X-TITLE=140 Middlesex Avenue:geo:-71.1662959,42.5566305
END:VEVENT
BEGIN:VEVENT
DTSTART;TZID=America/New_York:20250608T120000
DTEND;TZID=America/New_York:20250608T160000
DTSTAMP:20260419T153734
CREATED:20250423T180633Z
LAST-MODIFIED:20250423T180657Z
UID:10011454-1749384000-1749398400@northeastharvest.com
SUMMARY:Hopkinton Farmers' Market
DESCRIPTION:The mission of the Hopkinton Farmers’ Market is to showcase local sustainable agriculture and promote organic practices; provide opportunities for education\, and for direct\, informed relationships between food producers and consumers; and benefit local farmers and the local economy\, as well as public health\, community vitality\, and regional environmental sustainability. \nSundays\, 1 pm to 5 pm – June to October
URL:https://northeastharvest.com/event/hopkinton-farmers-market-2-2-2/2025-06-08/
LOCATION:Hopkinton Farmers’ Market\, 6 Hayden Rowe Street\, Hopkinton\, MA\, 01748\, United States
CATEGORIES:Farmers' Markets,Farms & Food
GEO:42.2297289;-71.5177466
X-APPLE-STRUCTURED-LOCATION;VALUE=URI;X-ADDRESS=Hopkinton Farmers’ Market 6 Hayden Rowe Street Hopkinton MA 01748 United States;X-APPLE-RADIUS=500;X-TITLE=6 Hayden Rowe Street:geo:-71.5177466,42.2297289
END:VEVENT
END:VCALENDAR