BEGIN:VCALENDAR
VERSION:2.0
PRODID:-//Northeast Harvest - ECPv6.15.20//NONSGML v1.0//EN
CALSCALE:GREGORIAN
METHOD:PUBLISH
X-WR-CALNAME:Northeast Harvest
X-ORIGINAL-URL:https://northeastharvest.com
X-WR-CALDESC:Events for Northeast Harvest
REFRESH-INTERVAL;VALUE=DURATION:PT1H
X-Robots-Tag:noindex
X-PUBLISHED-TTL:PT1H
BEGIN:VTIMEZONE
TZID:America/New_York
BEGIN:DAYLIGHT
TZOFFSETFROM:-0500
TZOFFSETTO:-0400
TZNAME:EDT
DTSTART:20240310T070000
END:DAYLIGHT
BEGIN:STANDARD
TZOFFSETFROM:-0400
TZOFFSETTO:-0500
TZNAME:EST
DTSTART:20241103T060000
END:STANDARD
BEGIN:DAYLIGHT
TZOFFSETFROM:-0500
TZOFFSETTO:-0400
TZNAME:EDT
DTSTART:20250309T070000
END:DAYLIGHT
BEGIN:STANDARD
TZOFFSETFROM:-0400
TZOFFSETTO:-0500
TZNAME:EST
DTSTART:20251102T060000
END:STANDARD
BEGIN:DAYLIGHT
TZOFFSETFROM:-0500
TZOFFSETTO:-0400
TZNAME:EDT
DTSTART:20260308T070000
END:DAYLIGHT
BEGIN:STANDARD
TZOFFSETFROM:-0400
TZOFFSETTO:-0500
TZNAME:EST
DTSTART:20261101T060000
END:STANDARD
END:VTIMEZONE
BEGIN:VEVENT
DTSTART;TZID=America/New_York:20251029T120000
DTEND;TZID=America/New_York:20251029T180000
DTSTAMP:20260420T023559
CREATED:20250423T190051Z
LAST-MODIFIED:20250423T190117Z
UID:10011961-1761739200-1761760800@northeastharvest.com
SUMMARY:Somerville Davis Square Farmers' Market
DESCRIPTION:The mission of the Somerville Davis Square Farmers’ Market is to showcase local sustainable agriculture and promote organic practices; provide opportunities for education\, and for direct\, informed relationships between food producers and consumers; and benefit local farmers and the local economy\, as well as public health\, community vitality\, and regional environmental sustainability. \nWednesdays\, 12 pm to 6 pm – May to November
URL:https://northeastharvest.com/event/somerville-davis-square-farmers-market-2-2-2/2025-10-29/
LOCATION:Somerville Davis Square Farmers’ Market\, Day & Herbert Streets\, Somverville\, MA\, 02144\, United States
CATEGORIES:Farmers' Markets,Farms & Food
GEO:42.395838;-71.1231171
X-APPLE-STRUCTURED-LOCATION;VALUE=URI;X-ADDRESS=Somerville Davis Square Farmers’ Market Day & Herbert Streets Somverville MA 02144 United States;X-APPLE-RADIUS=500;X-TITLE=Day & Herbert Streets:geo:-71.1231171,42.395838
END:VEVENT
BEGIN:VEVENT
DTSTART;TZID=America/New_York:20251029T140000
DTEND;TZID=America/New_York:20251029T183000
DTSTAMP:20260420T023559
CREATED:20250423T172312Z
LAST-MODIFIED:20250423T172354Z
UID:10011002-1761746400-1761762600@northeastharvest.com
SUMMARY:Arlington Farmers' Market
DESCRIPTION:The mission of the Arlington Farmers’ Market is to showcase local sustainable agriculture and promote organic practices; provide opportunities for education\, and for direct\, informed relationships between food producers and consumers; and benefit local farmers and the local economy\, as well as public health\, community vitality\, and regional environmental sustainability. \nWednesdays\, 2:00 pm to 6:30 pm – June to October
URL:https://northeastharvest.com/event/arlington-farmers-market-2-2-2/2025-10-29/
LOCATION:Arlington Farmers’ Market\, 29 Mystic Street\, Arlington\, MA\, 02474\, United States
CATEGORIES:Farmers' Markets,Farms & Food
GEO:42.4160259;-71.1518885
X-APPLE-STRUCTURED-LOCATION;VALUE=URI;X-ADDRESS=Arlington Farmers’ Market 29 Mystic Street Arlington MA 02474 United States;X-APPLE-RADIUS=500;X-TITLE=29 Mystic Street:geo:-71.1518885,42.4160259
END:VEVENT
END:VCALENDAR