BEGIN:VCALENDAR
VERSION:2.0
PRODID:-//Northeast Harvest - ECPv6.15.20//NONSGML v1.0//EN
CALSCALE:GREGORIAN
METHOD:PUBLISH
X-ORIGINAL-URL:https://northeastharvest.com
X-WR-CALDESC:Events for Northeast Harvest
REFRESH-INTERVAL;VALUE=DURATION:PT1H
X-Robots-Tag:noindex
X-PUBLISHED-TTL:PT1H
BEGIN:VTIMEZONE
TZID:America/New_York
BEGIN:DAYLIGHT
TZOFFSETFROM:-0500
TZOFFSETTO:-0400
TZNAME:EDT
DTSTART:20240310T070000
END:DAYLIGHT
BEGIN:STANDARD
TZOFFSETFROM:-0400
TZOFFSETTO:-0500
TZNAME:EST
DTSTART:20241103T060000
END:STANDARD
BEGIN:DAYLIGHT
TZOFFSETFROM:-0500
TZOFFSETTO:-0400
TZNAME:EDT
DTSTART:20250309T070000
END:DAYLIGHT
BEGIN:STANDARD
TZOFFSETFROM:-0400
TZOFFSETTO:-0500
TZNAME:EST
DTSTART:20251102T060000
END:STANDARD
BEGIN:DAYLIGHT
TZOFFSETFROM:-0500
TZOFFSETTO:-0400
TZNAME:EDT
DTSTART:20260308T070000
END:DAYLIGHT
BEGIN:STANDARD
TZOFFSETFROM:-0400
TZOFFSETTO:-0500
TZNAME:EST
DTSTART:20261101T060000
END:STANDARD
END:VTIMEZONE
BEGIN:VEVENT
DTSTART;TZID=America/New_York:20251106T120000
DTEND;TZID=America/New_York:20251106T180000
DTSTAMP:20260419T160051
CREATED:20250423T175121Z
LAST-MODIFIED:20250423T175149Z
UID:10011403-1762430400-1762452000@northeastharvest.com
SUMMARY:Cambridge Kendall Square Market
DESCRIPTION:The Cambridge Kendall Square Market operates on Thursdays from 12:00pm-6:00pm at 1 Broad Canal Way in Cambridge. Visit with them to meet local vendors\, purchase produce and bake good and much more! \nOperates – May to November
URL:https://northeastharvest.com/event/cambridge-kendall-square-market/2025-11-06/
LOCATION:Cambridge Kendall Square Market\, 1 Broad Canal Way\, Cambridge\, MA
CATEGORIES:Farmers' Markets,Farms & Food
END:VEVENT
END:VCALENDAR